BEGIN:VCALENDAR
VERSION:2.0
PRODID:-//213.154.231.201//NONSGML kigkonsult.se iCalcreator 2.20//
CALSCALE:GREGORIAN
METHOD:PUBLISH
X-WR-TIMEZONE:Europe/Amsterdam
BEGIN:VEVENT
UID:event101@Piratenkoor "de Stormvogels"
DTSTAMP:20260424T180453Z
CATEGORIES:Openbaar    Onb
DESCRIPTION:shantyfest-bremen\nCategorie: Openbaar    Onb\nLink: http://pir
 atenkoor.destormvogels.nl/index.php?option=com_jem&view=event&id=101:shant
 yfest-bremen\n
DTSTART;TZID=Europe/Amsterdam:20140614T130000
DTEND;TZID=Europe/Amsterdam:20140614T170000
LOCATION:Bremen (D)\,Bremen
SUMMARY:shantyfest-bremen
URL:http://piratenkoor.destormvogels.nl/index.php?option=com_jem&view=event
 &id=101:shantyfest-bremen
END:VEVENT
END:VCALENDAR