BEGIN:VCALENDAR
VERSION:2.0
PRODID:-//213.154.231.201//NONSGML kigkonsult.se iCalcreator 2.20//
CALSCALE:GREGORIAN
METHOD:PUBLISH
X-WR-TIMEZONE:Europe/Amsterdam
BEGIN:VEVENT
UID:event102@Piratenkoor "de Stormvogels"
DTSTAMP:20260424T151036Z
CATEGORIES:Besloten    Onb
DESCRIPTION:Weerkomdagen  Borculo\nCategorie: Besloten    Onb\nLink: http:/
 /piratenkoor.destormvogels.nl/index.php?option=com_jem&view=event&id=102:w
 eerkomdagen-borculo\n
DTSTART;TZID=Europe/Amsterdam:20140628T120000
DTEND;TZID=Europe/Amsterdam:20140628T170000
LOCATION:Borculo\,Borculo
SUMMARY:Weerkomdagen  Borculo
URL:http://piratenkoor.destormvogels.nl/index.php?option=com_jem&view=event
 &id=102:weerkomdagen-borculo
END:VEVENT
END:VCALENDAR