BEGIN:VCALENDAR
VERSION:2.0
PRODID:-//213.154.231.201//NONSGML kigkonsult.se iCalcreator 2.20//
CALSCALE:GREGORIAN
METHOD:PUBLISH
X-WR-TIMEZONE:Europe/Amsterdam
BEGIN:VEVENT
UID:event103@Piratenkoor "de Stormvogels"
DTSTAMP:20260424T182327Z
CATEGORIES:Openbaar    Onb
DESCRIPTION:Shantyfestival Scheveningen \nCategorie: Openbaar    Onb\nLink:
  http://piratenkoor.destormvogels.nl/index.php?option=com_jem&view=event&i
 d=103:shantyfestival-scheveningen\n
DTSTART;TZID=Europe/Amsterdam:20140629T120000
DTEND;TZID=Europe/Amsterdam:20140629T163000
LOCATION:Scheveningen\, Haven\,Visafslagweg\,Scheveningen
SUMMARY:Shantyfestival Scheveningen 
URL:http://piratenkoor.destormvogels.nl/index.php?option=com_jem&view=event
 &id=103:shantyfestival-scheveningen
END:VEVENT
END:VCALENDAR