BEGIN:VCALENDAR
VERSION:2.0
PRODID:-//213.154.231.201//NONSGML kigkonsult.se iCalcreator 2.20//
CALSCALE:GREGORIAN
METHOD:PUBLISH
X-WR-TIMEZONE:Europe/Amsterdam
BEGIN:VEVENT
UID:event105@Piratenkoor "de Stormvogels"
DTSTAMP:20260425T035709Z
CATEGORIES:Openbaar    Onb
DESCRIPTION:Scholtenhagefestival\nCategorie: Openbaar    Onb\nLink: http://
 piratenkoor.destormvogels.nl/index.php?option=com_jem&view=event&id=105:sc
 holtenhagefestival\n
DTSTART;TZID=Europe/Amsterdam:20140706T110000
DTEND;TZID=Europe/Amsterdam:20140706T170000
LOCATION:Scholtenhage\,Scholtenhagenweg 36\,7481 VP Haaksbergen
SUMMARY:Scholtenhagefestival
URL:http://piratenkoor.destormvogels.nl/index.php?option=com_jem&view=event
 &id=105:scholtenhagefestival
END:VEVENT
END:VCALENDAR