BEGIN:VCALENDAR
VERSION:2.0
PRODID:-//213.154.231.201//NONSGML kigkonsult.se iCalcreator 2.20//
CALSCALE:GREGORIAN
METHOD:PUBLISH
X-WR-TIMEZONE:Europe/Amsterdam
BEGIN:VEVENT
UID:event106@Piratenkoor "de Stormvogels"
DTSTAMP:20260424T212517Z
CATEGORIES:Openbaar    Onb
DESCRIPTION:Jubileumfeest\nCategorie: Openbaar    Onb\nLink: http://piraten
 koor.destormvogels.nl/index.php?option=com_jem&view=event&id=106:jubileumf
 eest\n
DTSTART;TZID=Europe/Amsterdam:20140726T180000
DTEND;TZID=Europe/Amsterdam:20140726T223000
LOCATION:Fresenburg (D)\,Fresenburg
SUMMARY:Jubileumfeest
URL:http://piratenkoor.destormvogels.nl/index.php?option=com_jem&view=event
 &id=106:jubileumfeest
END:VEVENT
END:VCALENDAR