BEGIN:VCALENDAR
VERSION:2.0
PRODID:-//213.154.231.201//NONSGML kigkonsult.se iCalcreator 2.20//
CALSCALE:GREGORIAN
METHOD:PUBLISH
X-WR-TIMEZONE:Europe/Amsterdam
BEGIN:VEVENT
UID:event108@Piratenkoor "de Stormvogels"
DTSTAMP:20260424T132014Z
CATEGORIES:Openbaar    Onb
DESCRIPTION:Shantyfestival Dummersee \nCategorie: Openbaar    Onb\nLink: ht
 tp://piratenkoor.destormvogels.nl/index.php?option=com_jem&view=event&id=1
 08:shantyfestival-dummersee\n
DTSTART;TZID=Europe/Amsterdam:20140824T130000
DTEND;TZID=Europe/Amsterdam:20140824T170000
LOCATION:Lembruch (D)\,Seestra\,49459 Lembruch
SUMMARY:Shantyfestival Dummersee 
URL:http://piratenkoor.destormvogels.nl/index.php?option=com_jem&view=event
 &id=108:shantyfestival-dummersee
END:VEVENT
END:VCALENDAR