BEGIN:VCALENDAR
VERSION:2.0
PRODID:-//213.154.231.201//NONSGML kigkonsult.se iCalcreator 2.20//
CALSCALE:GREGORIAN
METHOD:PUBLISH
X-WR-TIMEZONE:Europe/Amsterdam
BEGIN:VEVENT
UID:event10@Piratenkoor "de Stormvogels"
DTSTAMP:20260424T212501Z
CATEGORIES:Besloten    Onb
DESCRIPTION:Inloopdag 'De Stormvogels' - Erica\nCategorie: Besloten    Onb
 \nLink: http://piratenkoor.destormvogels.nl/index.php?option=com_jem&view=
 event&id=10:inloopdag-qde-stormvogelsq-erica\n
DTSTART;TZID=Europe/Amsterdam:20120324T080000
DTEND;TZID=Europe/Amsterdam:20120324T180000
LOCATION:'t Schienvat op Erica\,Heidebloemstraat 4\,7887 EB Erica
SUMMARY:Inloopdag 'De Stormvogels' - Erica
URL:http://piratenkoor.destormvogels.nl/index.php?option=com_jem&view=event
 &id=10:inloopdag-qde-stormvogelsq-erica
END:VEVENT
END:VCALENDAR