BEGIN:VCALENDAR
VERSION:2.0
PRODID:-//213.154.231.201//NONSGML kigkonsult.se iCalcreator 2.20//
CALSCALE:GREGORIAN
METHOD:PUBLISH
X-WR-TIMEZONE:Europe/Amsterdam
BEGIN:VEVENT
UID:event110@Piratenkoor "de Stormvogels"
DTSTAMP:20260425T155336Z
CATEGORIES:Openbaar    Onb
DESCRIPTION:Wereld havendagen\nCategorie: Openbaar    Onb\nLink: http://pir
 atenkoor.destormvogels.nl/index.php?option=com_jem&view=event&id=110:werel
 d-havendagen\n
DTSTART;TZID=Europe/Amsterdam:20140906T113000
DTEND;TZID=Europe/Amsterdam:20140906T170000
LOCATION:Rotterdam\,Rotterdam
SUMMARY:Wereld havendagen
URL:http://piratenkoor.destormvogels.nl/index.php?option=com_jem&view=event
 &id=110:wereld-havendagen
END:VEVENT
END:VCALENDAR