BEGIN:VCALENDAR
VERSION:2.0
PRODID:-//213.154.231.201//NONSGML kigkonsult.se iCalcreator 2.20//
CALSCALE:GREGORIAN
METHOD:PUBLISH
X-WR-TIMEZONE:Europe/Amsterdam
BEGIN:VEVENT
UID:event111@Piratenkoor "de Stormvogels"
DTSTAMP:20260424T175725Z
CATEGORIES:Openbaar    Onb
DESCRIPTION:Dorpsfeest\nCategorie: Openbaar    Onb\nLink: http://piratenkoo
 r.destormvogels.nl/index.php?option=com_jem&view=event&id=111:dorpsfeest\n
DTSTART;TZID=Europe/Amsterdam:20140907T113000
DTEND;TZID=Europe/Amsterdam:20140907T163000
LOCATION:Valthe\,Valthe
SUMMARY:Dorpsfeest
URL:http://piratenkoor.destormvogels.nl/index.php?option=com_jem&view=event
 &id=111:dorpsfeest
END:VEVENT
END:VCALENDAR