BEGIN:VCALENDAR
VERSION:2.0
PRODID:-//213.154.231.201//NONSGML kigkonsult.se iCalcreator 2.20//
CALSCALE:GREGORIAN
METHOD:PUBLISH
X-WR-TIMEZONE:Europe/Amsterdam
BEGIN:VEVENT
UID:event112@Piratenkoor "de Stormvogels"
DTSTAMP:20260424T114235Z
CATEGORIES:Openbaar    Onb
DESCRIPTION:Internationaal Shanty and Seasong festival \nCategorie: Openbaa
 r    Onb\nLink: http://piratenkoor.destormvogels.nl/index.php?option=com_j
 em&view=event&id=112:internationaal-shanty-and-seasong-festival\n
DTSTART;TZID=Europe/Amsterdam:20140914T130000
DTEND;TZID=Europe/Amsterdam:20140914T173000
LOCATION:Emmen\, Marktplein\,Marktplein\,Emmen
SUMMARY:Internationaal Shanty and Seasong festival 
URL:http://piratenkoor.destormvogels.nl/index.php?option=com_jem&view=event
 &id=112:internationaal-shanty-and-seasong-festival
END:VEVENT
END:VCALENDAR