BEGIN:VCALENDAR
VERSION:2.0
PRODID:-//213.154.231.201//NONSGML kigkonsult.se iCalcreator 2.20//
CALSCALE:GREGORIAN
METHOD:PUBLISH
X-WR-TIMEZONE:Europe/Amsterdam
BEGIN:VEVENT
UID:event115@Piratenkoor "de Stormvogels"
DTSTAMP:20260425T005804Z
CATEGORIES:Openbaar    Onb
DESCRIPTION:Kerst Special Parc Centrum Sandur\nCategorie: Openbaar    Onb\n
 Link: http://piratenkoor.destormvogels.nl/index.php?option=com_jem&view=ev
 ent&id=115:kerst-special-parc-centrum-sandur\n
DTSTART;TZID=Europe/Amsterdam:20141221T140000
DTEND;TZID=Europe/Amsterdam:20141221T160000
LOCATION:Parc Centrum Sandur\,Sandurdreef 5\,7828 AA Emmen
SUMMARY:Kerst Special Parc Centrum Sandur
URL:http://piratenkoor.destormvogels.nl/index.php?option=com_jem&view=event
 &id=115:kerst-special-parc-centrum-sandur
END:VEVENT
END:VCALENDAR