BEGIN:VCALENDAR
VERSION:2.0
PRODID:-//213.154.231.201//NONSGML kigkonsult.se iCalcreator 2.20//
CALSCALE:GREGORIAN
METHOD:PUBLISH
X-WR-TIMEZONE:Europe/Amsterdam
BEGIN:VEVENT
UID:event116@Piratenkoor "de Stormvogels"
DTSTAMP:20260424T191543Z
CATEGORIES:Entree
DESCRIPTION:Eerste repetitieavond\nCategorie: Entree\nLink: http://piratenk
 oor.destormvogels.nl/index.php?option=com_jem&view=event&id=116:eerste-rep
 etitieavond\n
DTSTART;TZID=Europe/Amsterdam:20150106T193000
DTEND;TZID=Europe/Amsterdam:20150106T213000
LOCATION:'t Schienvat op Erica\,Heidebloemstraat 4\,7887 EB Erica
SUMMARY:Eerste repetitieavond
URL:http://piratenkoor.destormvogels.nl/index.php?option=com_jem&view=event
 &id=116:eerste-repetitieavond
END:VEVENT
END:VCALENDAR