BEGIN:VCALENDAR
VERSION:2.0
PRODID:-//213.154.231.201//NONSGML kigkonsult.se iCalcreator 2.20//
CALSCALE:GREGORIAN
METHOD:PUBLISH
X-WR-TIMEZONE:Europe/Amsterdam
BEGIN:VEVENT
UID:event122@Piratenkoor "de Stormvogels"
DTSTAMP:20260424T155630Z
CATEGORIES:Openbaar    Onb
DESCRIPTION:Schützenfest\nCategorie: Openbaar    Onb\nLink: http://piratenk
 oor.destormvogels.nl/index.php?option=com_jem&view=event&id=122:schutzenfe
 st\n
DTSTART;TZID=Europe/Amsterdam:20150525T133000
DTEND;TZID=Europe/Amsterdam:20150525T170000
LOCATION:Twist (D)\,Twist
SUMMARY:Schützenfest
URL:http://piratenkoor.destormvogels.nl/index.php?option=com_jem&view=event
 &id=122:schutzenfest
END:VEVENT
END:VCALENDAR