BEGIN:VCALENDAR
VERSION:2.0
PRODID:-//213.154.231.201//NONSGML kigkonsult.se iCalcreator 2.20//
CALSCALE:GREGORIAN
METHOD:PUBLISH
X-WR-TIMEZONE:Europe/Amsterdam
BEGIN:VEVENT
UID:event123@Piratenkoor "de Stormvogels"
DTSTAMP:20260424T191530Z
CATEGORIES:Besloten    Onb
DESCRIPTION:Stoetbakken  Noord Barge\nCategorie: Besloten    Onb\nLink: htt
 p://piratenkoor.destormvogels.nl/index.php?option=com_jem&view=event&id=12
 3:stoetbakken-noord-barge\n
DTSTART;TZID=Europe/Amsterdam:20150606T110000
DTEND;TZID=Europe/Amsterdam:20150606T150000
LOCATION:Emmen\, Angelslo\,Emmen
SUMMARY:Stoetbakken  Noord Barge
URL:http://piratenkoor.destormvogels.nl/index.php?option=com_jem&view=event
 &id=123:stoetbakken-noord-barge
END:VEVENT
END:VCALENDAR