BEGIN:VCALENDAR
VERSION:2.0
PRODID:-//213.154.231.201//NONSGML kigkonsult.se iCalcreator 2.20//
CALSCALE:GREGORIAN
METHOD:PUBLISH
X-WR-TIMEZONE:Europe/Amsterdam
BEGIN:VEVENT
UID:event125@Piratenkoor "de Stormvogels"
DTSTAMP:20260424T220744Z
CATEGORIES:Openbaar    Onb
DESCRIPTION:Voorlichtingsavond Letlandgangers\nCategorie: Openbaar    Onb\n
 Link: http://piratenkoor.destormvogels.nl/index.php?option=com_jem&view=ev
 ent&id=125:voorlichtingsavond-letlandgangers\n
DTSTART;TZID=Europe/Amsterdam:20150629T200000
DTEND;TZID=Europe/Amsterdam:20150629T220000
LOCATION:'t Schienvat op Erica\,Heidebloemstraat 4\,7887 EB Erica
SUMMARY:Voorlichtingsavond Letlandgangers
URL:http://piratenkoor.destormvogels.nl/index.php?option=com_jem&view=event
 &id=125:voorlichtingsavond-letlandgangers
END:VEVENT
END:VCALENDAR