BEGIN:VCALENDAR
VERSION:2.0
PRODID:-//213.154.231.201//NONSGML kigkonsult.se iCalcreator 2.20//
CALSCALE:GREGORIAN
METHOD:PUBLISH
X-WR-TIMEZONE:Europe/Amsterdam
BEGIN:VEVENT
UID:event126@Piratenkoor "de Stormvogels"
DTSTAMP:20260424T114844Z
CATEGORIES:Openbaar    Onb
DESCRIPTION:Wilhelmshaven\nCategorie: Openbaar    Onb\nLink: http://piraten
 koor.destormvogels.nl/index.php?option=com_jem&view=event&id=126:wilhelmsh
 aven\n
DTSTART;TZID=Europe/Amsterdam:20150703T130000
DTEND;TZID=Europe/Amsterdam:20150703T170000
LOCATION:Wilhelmshaven (D)\,Bontekai\,26382 Wilhelmshaven
SUMMARY:Wilhelmshaven
URL:http://piratenkoor.destormvogels.nl/index.php?option=com_jem&view=event
 &id=126:wilhelmshaven
END:VEVENT
END:VCALENDAR