BEGIN:VCALENDAR
VERSION:2.0
PRODID:-//213.154.231.201//NONSGML kigkonsult.se iCalcreator 2.20//
CALSCALE:GREGORIAN
METHOD:PUBLISH
X-WR-TIMEZONE:Europe/Amsterdam
BEGIN:VEVENT
UID:event128@Piratenkoor "de Stormvogels"
DTSTAMP:20260424T212510Z
CATEGORIES:Openbaar    Onb
DESCRIPTION:Café restaurant de Buur`n\nCategorie: Openbaar    Onb\nLink: ht
 tp://piratenkoor.destormvogels.nl/index.php?option=com_jem&view=event&id=1
 28:cafe-restaurant-de-buur-n\n
DTSTART;TZID=Europe/Amsterdam:20150826T140000
DTEND;TZID=Europe/Amsterdam:20150826T170000
LOCATION:Schoonebeek\,Schoonebeek
SUMMARY:Café restaurant de Buur`n
URL:http://piratenkoor.destormvogels.nl/index.php?option=com_jem&view=event
 &id=128:cafe-restaurant-de-buur-n
END:VEVENT
END:VCALENDAR