BEGIN:VCALENDAR
VERSION:2.0
PRODID:-//213.154.231.201//NONSGML kigkonsult.se iCalcreator 2.20//
CALSCALE:GREGORIAN
METHOD:PUBLISH
X-WR-TIMEZONE:Europe/Amsterdam
BEGIN:VEVENT
UID:event12@Piratenkoor "de Stormvogels"
DTSTAMP:20260424T232726Z
CATEGORIES:Openbaar    Onb
DESCRIPTION:Geen repetitie\nCategorie: Openbaar    Onb\nLink: http://pirate
 nkoor.destormvogels.nl/index.php?option=com_jem&view=event&id=12:geen-repe
 titie\n
DTSTART;TZID=Europe/Amsterdam:20120515T200000
DTEND;TZID=Europe/Amsterdam:20120515T220000
LOCATION:'t Schienvat op Erica\,Heidebloemstraat 4\,7887 EB Erica
SUMMARY:Geen repetitie
URL:http://piratenkoor.destormvogels.nl/index.php?option=com_jem&view=event
 &id=12:geen-repetitie
END:VEVENT
END:VCALENDAR