BEGIN:VCALENDAR
VERSION:2.0
PRODID:-//213.154.231.201//NONSGML kigkonsult.se iCalcreator 2.20//
CALSCALE:GREGORIAN
METHOD:PUBLISH
X-WR-TIMEZONE:Europe/Amsterdam
BEGIN:VEVENT
UID:event138@Piratenkoor "de Stormvogels"
DTSTAMP:20260424T163441Z
CATEGORIES:Besloten    Onb
DESCRIPTION:Parc Centrum Sandur\nCategorie: Besloten    Onb\nLink: http://p
 iratenkoor.destormvogels.nl/index.php?option=com_jem&view=event&id=138:par
 c-centrum-sandur\n
DTSTART;TZID=Europe/Amsterdam:20151227T133000
DTEND;TZID=Europe/Amsterdam:20151227T160000
LOCATION:Parc Centrum Sandur\,Sandurdreef 5\,7828 AA Emmen
SUMMARY:Parc Centrum Sandur
URL:http://piratenkoor.destormvogels.nl/index.php?option=com_jem&view=event
 &id=138:parc-centrum-sandur
END:VEVENT
END:VCALENDAR