BEGIN:VCALENDAR
VERSION:2.0
PRODID:-//213.154.231.201//NONSGML kigkonsult.se iCalcreator 2.20//
CALSCALE:GREGORIAN
METHOD:PUBLISH
X-WR-TIMEZONE:Europe/Amsterdam
BEGIN:VEVENT
UID:event13@Piratenkoor "de Stormvogels"
DTSTAMP:20260424T175712Z
CATEGORIES:Openbaar    Onb
DESCRIPTION:Blauwe Botterrace\nCategorie: Openbaar    Onb\nLink: http://pir
 atenkoor.destormvogels.nl/index.php?option=com_jem&view=event&id=13:blauwe
 -botterrace\n
DTSTART;TZID=Europe/Amsterdam:20120516T100000
DTEND;TZID=Europe/Amsterdam:20120516T203000
LOCATION:Spakenburg\,Spakenburg
SUMMARY:Blauwe Botterrace
URL:http://piratenkoor.destormvogels.nl/index.php?option=com_jem&view=event
 &id=13:blauwe-botterrace
END:VEVENT
END:VCALENDAR