BEGIN:VCALENDAR
VERSION:2.0
PRODID:-//213.154.231.201//NONSGML kigkonsult.se iCalcreator 2.20//
CALSCALE:GREGORIAN
METHOD:PUBLISH
X-WR-TIMEZONE:Europe/Amsterdam
BEGIN:VEVENT
UID:event145@Piratenkoor "de Stormvogels"
DTSTAMP:20260424T191536Z
CATEGORIES:Besloten    Onb
DESCRIPTION:Nieuwe cd opname 'de Stormvogels'\nCategorie: Besloten    Onb\n
 Link: http://piratenkoor.destormvogels.nl/index.php?option=com_jem&view=ev
 ent&id=145:nieuwe-cd-opname-de-stormvogels\n
DTSTART;TZID=Europe/Amsterdam:20160312T090000
DTEND;TZID=Europe/Amsterdam:20160312T163000
LOCATION:de Bleerinck\, Emmen\,Spehornerbrink 1\,7812 KA Emmen
SUMMARY:Nieuwe cd opname 'de Stormvogels'
URL:http://piratenkoor.destormvogels.nl/index.php?option=com_jem&view=event
 &id=145:nieuwe-cd-opname-de-stormvogels
END:VEVENT
END:VCALENDAR