BEGIN:VCALENDAR
VERSION:2.0
PRODID:-//213.154.231.201//NONSGML kigkonsult.se iCalcreator 2.20//
CALSCALE:GREGORIAN
METHOD:PUBLISH
X-WR-TIMEZONE:Europe/Amsterdam
BEGIN:VEVENT
UID:event146@Piratenkoor "de Stormvogels"
DTSTAMP:20260424T191607Z
CATEGORIES:Entree
DESCRIPTION:Verpleeghuis De Horst\nCategorie: Entree\nLink: http://piratenk
 oor.destormvogels.nl/index.php?option=com_jem&view=event&id=146:verpleeghu
 is-de-horst\n
DTSTART;TZID=Europe/Amsterdam:20160315T190000
DTEND;TZID=Europe/Amsterdam:20160315T203000
LOCATION:De Holdert Emmen\,Hondsrugweg 101\,7811 AB Emmen
SUMMARY:Verpleeghuis De Horst
URL:http://piratenkoor.destormvogels.nl/index.php?option=com_jem&view=event
 &id=146:verpleeghuis-de-horst
END:VEVENT
END:VCALENDAR