BEGIN:VCALENDAR
VERSION:2.0
PRODID:-//213.154.231.201//NONSGML kigkonsult.se iCalcreator 2.20//
CALSCALE:GREGORIAN
METHOD:PUBLISH
X-WR-TIMEZONE:Europe/Amsterdam
BEGIN:VEVENT
UID:event147@Piratenkoor "de Stormvogels"
DTSTAMP:20260425T210540Z
CATEGORIES:Openbaar    Onb
DESCRIPTION:Theaterboerderij Noorderbak\nCategorie: Openbaar    Onb\nLink: 
 http://piratenkoor.destormvogels.nl/index.php?option=com_jem&view=event&id
 =147:theaterboerderij-noorderbak\n
DTSTART;TZID=Europe/Amsterdam:20160319T200000
DTEND;TZID=Europe/Amsterdam:20160319T230000
LOCATION:Roswinkel\,Roswinkelerstraat 81B\,7895 AN Roswinkel
SUMMARY:Theaterboerderij Noorderbak
URL:http://piratenkoor.destormvogels.nl/index.php?option=com_jem&view=event
 &id=147:theaterboerderij-noorderbak
END:VEVENT
END:VCALENDAR