BEGIN:VCALENDAR
VERSION:2.0
PRODID:-//213.154.231.201//NONSGML kigkonsult.se iCalcreator 2.20//
CALSCALE:GREGORIAN
METHOD:PUBLISH
X-WR-TIMEZONE:Europe/Amsterdam
BEGIN:VEVENT
UID:event148@Piratenkoor "de Stormvogels"
DTSTAMP:20260424T175721Z
CATEGORIES:Openbaar    Onb
DESCRIPTION:Parkschool\nCategorie: Openbaar    Onb\nLink: http://piratenkoo
 r.destormvogels.nl/index.php?option=com_jem&view=event&id=148:parkschool\n
DTSTART;TZID=Europe/Amsterdam:20160418T183000
DTEND;TZID=Europe/Amsterdam:20160418T200000
LOCATION:Coevorden\,Coevorden
SUMMARY:Parkschool
URL:http://piratenkoor.destormvogels.nl/index.php?option=com_jem&view=event
 &id=148:parkschool
END:VEVENT
END:VCALENDAR