BEGIN:VCALENDAR
VERSION:2.0
PRODID:-//213.154.231.201//NONSGML kigkonsult.se iCalcreator 2.20//
CALSCALE:GREGORIAN
METHOD:PUBLISH
X-WR-TIMEZONE:Europe/Amsterdam
BEGIN:VEVENT
UID:event151@Piratenkoor "de Stormvogels"
DTSTAMP:20260424T155628Z
CATEGORIES:Besloten    Onb
DESCRIPTION:Shantyfestival Brummen\nCategorie: Besloten    Onb\nLink: http:
 //piratenkoor.destormvogels.nl/index.php?option=com_jem&view=event&id=151:
 shantyfestival-brummen\n
DTSTART;TZID=Europe/Amsterdam:20160516T110000
DTEND;TZID=Europe/Amsterdam:20160516T170000
LOCATION:Brummen\,Kerkstraat 17\,6971 AE Brummen
SUMMARY:Shantyfestival Brummen
URL:http://piratenkoor.destormvogels.nl/index.php?option=com_jem&view=event
 &id=151:shantyfestival-brummen
END:VEVENT
END:VCALENDAR