BEGIN:VCALENDAR
VERSION:2.0
PRODID:-//213.154.231.201//NONSGML kigkonsult.se iCalcreator 2.20//
CALSCALE:GREGORIAN
METHOD:PUBLISH
X-WR-TIMEZONE:Europe/Amsterdam
BEGIN:VEVENT
UID:event152@Piratenkoor "de Stormvogels"
DTSTAMP:20260424T192632Z
CATEGORIES:Openbaar    Onb
DESCRIPTION:Gepensioneerdedag DSM\nCategorie: Openbaar    Onb\nLink: http:/
 /piratenkoor.destormvogels.nl/index.php?option=com_jem&view=event&id=152:g
 epensioneerdedag\n
DTSTART;TZID=Europe/Amsterdam:20160525T140000
DTEND;TZID=Europe/Amsterdam:20160525T190000
LOCATION:Erica\,Erica
SUMMARY:Gepensioneerdedag DSM
URL:http://piratenkoor.destormvogels.nl/index.php?option=com_jem&view=event
 &id=152:gepensioneerdedag
END:VEVENT
END:VCALENDAR