BEGIN:VCALENDAR
VERSION:2.0
PRODID:-//213.154.231.201//NONSGML kigkonsult.se iCalcreator 2.20//
CALSCALE:GREGORIAN
METHOD:PUBLISH
X-WR-TIMEZONE:Europe/Amsterdam
BEGIN:VEVENT
UID:event154@Piratenkoor "de Stormvogels"
DTSTAMP:20260424T142937Z
CATEGORIES:Openbaar    Onb
DESCRIPTION:Optreden De Schans (zaal De Haarst)\nCategorie: Openbaar    Onb
 \nLink: http://piratenkoor.destormvogels.nl/index.php?option=com_jem&view=
 event&id=154:optreden-de-schans-zaal-de-haarst\n
DTSTART;TZID=Europe/Amsterdam:20160528T150000
DTEND;TZID=Europe/Amsterdam:20160528T160000
LOCATION:de Schans\, Emmen\,Laan van Het Kwekebos 118\,7823 LJ Emmen
SUMMARY:Optreden De Schans (zaal De Haarst)
URL:http://piratenkoor.destormvogels.nl/index.php?option=com_jem&view=event
 &id=154:optreden-de-schans-zaal-de-haarst
END:VEVENT
END:VCALENDAR