BEGIN:VCALENDAR
VERSION:2.0
PRODID:-//213.154.231.201//NONSGML kigkonsult.se iCalcreator 2.20//
CALSCALE:GREGORIAN
METHOD:PUBLISH
X-WR-TIMEZONE:Europe/Amsterdam
BEGIN:VEVENT
UID:event155@Piratenkoor "de Stormvogels"
DTSTAMP:20260424T175713Z
CATEGORIES:Besloten    Onb
DESCRIPTION:Dordt in stoom\nCategorie: Besloten    Onb\nLink: http://pirate
 nkoor.destormvogels.nl/index.php?option=com_jem&view=event&id=155:dordt-in
 -stoom\n
DTSTART;TZID=Europe/Amsterdam:20160529T123000
DTEND;TZID=Europe/Amsterdam:20160529T170000
LOCATION:Dordrecht\,Merwekade\,Dordrecht
SUMMARY:Dordt in stoom
URL:http://piratenkoor.destormvogels.nl/index.php?option=com_jem&view=event
 &id=155:dordt-in-stoom
END:VEVENT
END:VCALENDAR