BEGIN:VCALENDAR
VERSION:2.0
PRODID:-//213.154.231.201//NONSGML kigkonsult.se iCalcreator 2.20//
CALSCALE:GREGORIAN
METHOD:PUBLISH
X-WR-TIMEZONE:Europe/Amsterdam
BEGIN:VEVENT
UID:event157@Piratenkoor "de Stormvogels"
DTSTAMP:20260425T152251Z
CATEGORIES:Openbaar    Onb
DESCRIPTION:Extra repetitie\nCategorie: Openbaar    Onb\nLink: http://pirat
 enkoor.destormvogels.nl/index.php?option=com_jem&view=event&id=157:extra-r
 epetitie-letlandgangers\n
DTSTART;TZID=Europe/Amsterdam:20160604T193000
DTEND;TZID=Europe/Amsterdam:20160604T213000
LOCATION:'t Schienvat op Erica\,Heidebloemstraat 4\,7887 EB Erica
SUMMARY:Extra repetitie
URL:http://piratenkoor.destormvogels.nl/index.php?option=com_jem&view=event
 &id=157:extra-repetitie-letlandgangers
END:VEVENT
END:VCALENDAR