BEGIN:VCALENDAR
VERSION:2.0
PRODID:-//213.154.231.201//NONSGML kigkonsult.se iCalcreator 2.20//
CALSCALE:GREGORIAN
METHOD:PUBLISH
X-WR-TIMEZONE:Europe/Amsterdam
BEGIN:VEVENT
UID:event158@Piratenkoor "de Stormvogels"
DTSTAMP:20260424T155629Z
CATEGORIES:Openbaar    Onb
DESCRIPTION:Schutzenfest\nCategorie: Openbaar    Onb\nLink: http://piratenk
 oor.destormvogels.nl/index.php?option=com_jem&view=event&id=158:schutzenfe
 st\n
DTSTART;TZID=Europe/Amsterdam:20160605T133000
DTEND;TZID=Europe/Amsterdam:20160605T170000
LOCATION:Twist (D)\,Twist
SUMMARY:Schutzenfest
URL:http://piratenkoor.destormvogels.nl/index.php?option=com_jem&view=event
 &id=158:schutzenfest
END:VEVENT
END:VCALENDAR