BEGIN:VCALENDAR
VERSION:2.0
PRODID:-//213.154.231.201//NONSGML kigkonsult.se iCalcreator 2.20//
CALSCALE:GREGORIAN
METHOD:PUBLISH
X-WR-TIMEZONE:Europe/Amsterdam
BEGIN:VEVENT
UID:event160@Piratenkoor "de Stormvogels"
DTSTAMP:20260424T165114Z
CATEGORIES:Besloten    Onb
DESCRIPTION:Shantyfestival Zoetermeer\nCategorie: Besloten    Onb\nLink: ht
 tp://piratenkoor.destormvogels.nl/index.php?option=com_jem&view=event&id=1
 60:shantyfestival-zoetermeer\n
DTSTART;TZID=Europe/Amsterdam:20160617T120000
DTEND;TZID=Europe/Amsterdam:20160617T180000
LOCATION:Zoetermeer\,Zoetermeer
SUMMARY:Shantyfestival Zoetermeer
URL:http://piratenkoor.destormvogels.nl/index.php?option=com_jem&view=event
 &id=160:shantyfestival-zoetermeer
END:VEVENT
END:VCALENDAR