BEGIN:VCALENDAR
VERSION:2.0
PRODID:-//213.154.231.201//NONSGML kigkonsult.se iCalcreator 2.20//
CALSCALE:GREGORIAN
METHOD:PUBLISH
X-WR-TIMEZONE:Europe/Amsterdam
BEGIN:VEVENT
UID:event161@Piratenkoor "de Stormvogels"
DTSTAMP:20260424T191539Z
CATEGORIES:Openbaar    Onb
DESCRIPTION:Mega cultureel feest\nCategorie: Openbaar    Onb\nLink: http://
 piratenkoor.destormvogels.nl/index.php?option=com_jem&view=event&id=161:me
 ga-cultureel-feest\n
DTSTART;TZID=Europe/Amsterdam:20160618T130000
DTEND;TZID=Europe/Amsterdam:20160618T180000
LOCATION:Dwingeloo\,Brink 4\,Dwingeloo
SUMMARY:Mega cultureel feest
URL:http://piratenkoor.destormvogels.nl/index.php?option=com_jem&view=event
 &id=161:mega-cultureel-feest
END:VEVENT
END:VCALENDAR