BEGIN:VCALENDAR
VERSION:2.0
PRODID:-//213.154.231.201//NONSGML kigkonsult.se iCalcreator 2.20//
CALSCALE:GREGORIAN
METHOD:PUBLISH
X-WR-TIMEZONE:Europe/Amsterdam
BEGIN:VEVENT
UID:event162@Piratenkoor "de Stormvogels"
DTSTAMP:20260425T005803Z
CATEGORIES:Openbaar    Onb
DESCRIPTION:Shanthyfest Cuxhaven\nCategorie: Openbaar    Onb\nLink: http://
 piratenkoor.destormvogels.nl/index.php?option=com_jem&view=event&id=162:sh
 anthyfest-cuxhaven\n
DTSTART;TZID=Europe/Amsterdam:20160619T120000
DTEND;TZID=Europe/Amsterdam:20160619T170000
LOCATION:Cuxhaven (D)\,Cuxhaven
SUMMARY:Shanthyfest Cuxhaven
URL:http://piratenkoor.destormvogels.nl/index.php?option=com_jem&view=event
 &id=162:shanthyfest-cuxhaven
END:VEVENT
END:VCALENDAR