BEGIN:VCALENDAR
VERSION:2.0
PRODID:-//213.154.231.201//NONSGML kigkonsult.se iCalcreator 2.20//
CALSCALE:GREGORIAN
METHOD:PUBLISH
X-WR-TIMEZONE:Europe/Amsterdam
BEGIN:VEVENT
UID:event164@Piratenkoor "de Stormvogels"
DTSTAMP:20260425T005807Z
CATEGORIES:Besloten    Onb
DESCRIPTION:Jaarmarkt\nCategorie: Besloten    Onb\nLink: http://piratenkoor
 .destormvogels.nl/index.php?option=com_jem&view=event&id=164:jaarmarkt\n
DTSTART;TZID=Europe/Amsterdam:20160625T103000
DTEND;TZID=Europe/Amsterdam:20160625T153000
LOCATION:Valthermond\,Valthermond
SUMMARY:Jaarmarkt
URL:http://piratenkoor.destormvogels.nl/index.php?option=com_jem&view=event
 &id=164:jaarmarkt
END:VEVENT
END:VCALENDAR