BEGIN:VCALENDAR
VERSION:2.0
PRODID:-//213.154.231.201//NONSGML kigkonsult.se iCalcreator 2.20//
CALSCALE:GREGORIAN
METHOD:PUBLISH
X-WR-TIMEZONE:Europe/Amsterdam
BEGIN:VEVENT
UID:event166@Piratenkoor "de Stormvogels"
DTSTAMP:20260424T225902Z
CATEGORIES:Besloten    Onb
DESCRIPTION:De Trans\nCategorie: Besloten    Onb\nLink: http://piratenkoor.
 destormvogels.nl/index.php?option=com_jem&view=event&id=166:leeuwerikenvel
 d-10-emmen\n
DTSTART;TZID=Europe/Amsterdam:20160703T133000
DTEND;TZID=Europe/Amsterdam:20160703T153000
LOCATION:Emmen\, Noordbarge\,Huizingsbrinkweg\,7812 BL Emmen
SUMMARY:De Trans
URL:http://piratenkoor.destormvogels.nl/index.php?option=com_jem&view=event
 &id=166:leeuwerikenveld-10-emmen
END:VEVENT
END:VCALENDAR