BEGIN:VCALENDAR
VERSION:2.0
PRODID:-//213.154.231.201//NONSGML kigkonsult.se iCalcreator 2.20//
CALSCALE:GREGORIAN
METHOD:PUBLISH
X-WR-TIMEZONE:Europe/Amsterdam
BEGIN:VEVENT
UID:event168@Piratenkoor "de Stormvogels"
DTSTAMP:20260424T191606Z
CATEGORIES:Openbaar    Onb
DESCRIPTION:WSC Kloosterheerd\nCategorie: Openbaar    Onb\nLink: http://pir
 atenkoor.destormvogels.nl/index.php?option=com_jem&view=event&id=168:zorgg
 roep-meander\n
DTSTART;TZID=Europe/Amsterdam:20160707T143000
DTEND;TZID=Europe/Amsterdam:20160707T163000
LOCATION:Ter Apel\,Ter Apel
SUMMARY:WSC Kloosterheerd
URL:http://piratenkoor.destormvogels.nl/index.php?option=com_jem&view=event
 &id=168:zorggroep-meander
END:VEVENT
END:VCALENDAR