BEGIN:VCALENDAR
VERSION:2.0
PRODID:-//213.154.231.201//NONSGML kigkonsult.se iCalcreator 2.20//
CALSCALE:GREGORIAN
METHOD:PUBLISH
X-WR-TIMEZONE:Europe/Amsterdam
BEGIN:VEVENT
UID:event169@Piratenkoor "de Stormvogels"
DTSTAMP:20260424T212507Z
CATEGORIES:Openbaar    Onb
DESCRIPTION:Onze jaarlijkse BBQ op landgoed Riesebos\nCategorie: Openbaar  
   Onb\nLink: http://piratenkoor.destormvogels.nl/index.php?option=com_jem&
 view=event&id=169:oosterhesselen\n
DTSTART;TZID=Europe/Amsterdam:20160708T170000
DTEND;TZID=Europe/Amsterdam:20160708T210000
LOCATION:Oosterhesselen\,Oosterhesselen
SUMMARY:Onze jaarlijkse BBQ op landgoed Riesebos
URL:http://piratenkoor.destormvogels.nl/index.php?option=com_jem&view=event
 &id=169:oosterhesselen
END:VEVENT
END:VCALENDAR