BEGIN:VCALENDAR
VERSION:2.0
PRODID:-//213.154.231.201//NONSGML kigkonsult.se iCalcreator 2.20//
CALSCALE:GREGORIAN
METHOD:PUBLISH
X-WR-TIMEZONE:Europe/Amsterdam
BEGIN:VEVENT
UID:event16@Piratenkoor "de Stormvogels"
DTSTAMP:20260425T135315Z
CATEGORIES:Openbaar    Onb
DESCRIPTION:Scholtenhagenfestival\nCategorie: Openbaar    Onb\nLink: http:/
 /piratenkoor.destormvogels.nl/index.php?option=com_jem&view=event&id=16:sc
 holtenhagenfestival\n
DTSTART;TZID=Europe/Amsterdam:20120603T080000
DTEND;TZID=Europe/Amsterdam:20120603T170000
LOCATION:Scholtenhage\,Scholtenhagenweg 36\,7481 VP Haaksbergen
SUMMARY:Scholtenhagenfestival
URL:http://piratenkoor.destormvogels.nl/index.php?option=com_jem&view=event
 &id=16:scholtenhagenfestival
END:VEVENT
END:VCALENDAR