BEGIN:VCALENDAR
VERSION:2.0
PRODID:-//213.154.231.201//NONSGML kigkonsult.se iCalcreator 2.20//
CALSCALE:GREGORIAN
METHOD:PUBLISH
X-WR-TIMEZONE:Europe/Amsterdam
BEGIN:VEVENT
UID:event171@Piratenkoor "de Stormvogels"
DTSTAMP:20260424T191535Z
CATEGORIES:Openbaar    Onb
DESCRIPTION:Fischerfest  Gernsheim am Rhein\nCategorie: Openbaar    Onb\nLi
 nk: http://piratenkoor.destormvogels.nl/index.php?option=com_jem&view=even
 t&id=171:fischerfest-gernsheim-am-rhein\n
DTSTART;TZID=Europe/Amsterdam:20160806T090000
DTEND;TZID=Europe/Amsterdam:20160807T230000
LOCATION:Gernsheim am Rhein (D)\,Rheinstra\,64579 Gernsheim
SUMMARY:Fischerfest  Gernsheim am Rhein
URL:http://piratenkoor.destormvogels.nl/index.php?option=com_jem&view=event
 &id=171:fischerfest-gernsheim-am-rhein
END:VEVENT
END:VCALENDAR