BEGIN:VCALENDAR
VERSION:2.0
PRODID:-//213.154.231.201//NONSGML kigkonsult.se iCalcreator 2.20//
CALSCALE:GREGORIAN
METHOD:PUBLISH
X-WR-TIMEZONE:Europe/Amsterdam
BEGIN:VEVENT
UID:event172@Piratenkoor "de Stormvogels"
DTSTAMP:20260424T192819Z
CATEGORIES:Openbaar    Onb
DESCRIPTION:Shanty Open Air 2016\nCategorie: Openbaar    Onb\nLink: http://
 piratenkoor.destormvogels.nl/index.php?option=com_jem&view=event&id=172:sh
 anty-open-air-2016\n
DTSTART;TZID=Europe/Amsterdam:20160814T123000
DTEND;TZID=Europe/Amsterdam:20160814T175000
LOCATION:Geeste (D)\,Geeste 
SUMMARY:Shanty Open Air 2016
URL:http://piratenkoor.destormvogels.nl/index.php?option=com_jem&view=event
 &id=172:shanty-open-air-2016
END:VEVENT
END:VCALENDAR