BEGIN:VCALENDAR
VERSION:2.0
PRODID:-//213.154.231.201//NONSGML kigkonsult.se iCalcreator 2.20//
CALSCALE:GREGORIAN
METHOD:PUBLISH
X-WR-TIMEZONE:Europe/Amsterdam
BEGIN:VEVENT
UID:event174@Piratenkoor "de Stormvogels"
DTSTAMP:20260420T082129Z
CATEGORIES:Besloten    Onb
DESCRIPTION:Veenvaartshantyfestival\nCategorie: Besloten    Onb\nLink: http
 ://piratenkoor.destormvogels.nl/index.php?option=com_jem&view=event&id=174
 :veenvaartshantyfestival\n
DTSTART;TZID=Europe/Amsterdam:20160820T130000
DTEND;TZID=Europe/Amsterdam:20160820T170000
LOCATION:Emmer-Compascuum\,Emmer-Compascuum
SUMMARY:Veenvaartshantyfestival
URL:http://piratenkoor.destormvogels.nl/index.php?option=com_jem&view=event
 &id=174:veenvaartshantyfestival
END:VEVENT
END:VCALENDAR