BEGIN:VCALENDAR
VERSION:2.0
PRODID:-//213.154.231.201//NONSGML kigkonsult.se iCalcreator 2.20//
CALSCALE:GREGORIAN
METHOD:PUBLISH
X-WR-TIMEZONE:Europe/Amsterdam
BEGIN:VEVENT
UID:event178@Piratenkoor "de Stormvogels"
DTSTAMP:20260424T155628Z
CATEGORIES:Openbaar    Onb
DESCRIPTION:Benefietconcert Op-Kikker\nCategorie: Openbaar    Onb\nLink: ht
 tp://piratenkoor.destormvogels.nl/index.php?option=com_jem&view=event&id=1
 78:benefiet-vestival-kika\n
DTSTART;TZID=Europe/Amsterdam:20160903T200000
DTEND;TZID=Europe/Amsterdam:20160903T230000
LOCATION:Assen\,Assen
SUMMARY:Benefietconcert Op-Kikker
URL:http://piratenkoor.destormvogels.nl/index.php?option=com_jem&view=event
 &id=178:benefiet-vestival-kika
END:VEVENT
END:VCALENDAR