BEGIN:VCALENDAR
VERSION:2.0
PRODID:-//213.154.231.201//NONSGML kigkonsult.se iCalcreator 2.20//
CALSCALE:GREGORIAN
METHOD:PUBLISH
X-WR-TIMEZONE:Europe/Amsterdam
BEGIN:VEVENT
UID:event17@Piratenkoor "de Stormvogels"
DTSTAMP:20260425T005758Z
CATEGORIES:Openbaar    Onb
DESCRIPTION:Feestmiddag De Zonnebloem\nCategorie: Openbaar    Onb\nLink: ht
 tp://piratenkoor.destormvogels.nl/index.php?option=com_jem&view=event&id=1
 7:rode-kruis-emmen\n
DTSTART;TZID=Europe/Amsterdam:20120605T140000
DTEND;TZID=Europe/Amsterdam:20120605T170000
LOCATION:Emmen\, Noordbarge\,Huizingsbrinkweg\,7812 BL Emmen
SUMMARY:Feestmiddag De Zonnebloem
URL:http://piratenkoor.destormvogels.nl/index.php?option=com_jem&view=event
 &id=17:rode-kruis-emmen
END:VEVENT
END:VCALENDAR