BEGIN:VCALENDAR
VERSION:2.0
PRODID:-//213.154.231.201//NONSGML kigkonsult.se iCalcreator 2.20//
CALSCALE:GREGORIAN
METHOD:PUBLISH
X-WR-TIMEZONE:Europe/Amsterdam
BEGIN:VEVENT
UID:event181@Piratenkoor "de Stormvogels"
DTSTAMP:20260424T162841Z
CATEGORIES:Besloten    Onb
DESCRIPTION:Shantyfest Haren-Wesuwe\nCategorie: Besloten    Onb\nLink: http
 ://piratenkoor.destormvogels.nl/index.php?option=com_jem&view=event&id=181
 :haren-wesuwe\n
DTSTART;TZID=Europe/Amsterdam:20160918T150000
DTEND;TZID=Europe/Amsterdam:20160918T174500
LOCATION:Haren (Ems) (D)\,Emswiesen\,49733 Haren
SUMMARY:Shantyfest Haren-Wesuwe
URL:http://piratenkoor.destormvogels.nl/index.php?option=com_jem&view=event
 &id=181:haren-wesuwe
END:VEVENT
END:VCALENDAR