BEGIN:VCALENDAR
VERSION:2.0
PRODID:-//213.154.231.201//NONSGML kigkonsult.se iCalcreator 2.20//
CALSCALE:GREGORIAN
METHOD:PUBLISH
X-WR-TIMEZONE:Europe/Amsterdam
BEGIN:VEVENT
UID:event185@Piratenkoor "de Stormvogels"
DTSTAMP:20260424T191601Z
CATEGORIES:Besloten    Onb
DESCRIPTION:JadeWeserPort CUP\nCategorie: Besloten    Onb\nLink: http://pir
 atenkoor.destormvogels.nl/index.php?option=com_jem&view=event&id=185:jadew
 eserport-cup\n
DTSTART;TZID=Europe/Amsterdam:20161002T140000
DTEND;TZID=Europe/Amsterdam:20161002T180000
LOCATION:Wilhelmshaven (D)\,Bontekai\,26382 Wilhelmshaven
SUMMARY:JadeWeserPort CUP
URL:http://piratenkoor.destormvogels.nl/index.php?option=com_jem&view=event
 &id=185:jadeweserport-cup
END:VEVENT
END:VCALENDAR