BEGIN:VCALENDAR
VERSION:2.0
PRODID:-//213.154.231.201//NONSGML kigkonsult.se iCalcreator 2.20//
CALSCALE:GREGORIAN
METHOD:PUBLISH
X-WR-TIMEZONE:Europe/Amsterdam
BEGIN:VEVENT
UID:event186@Piratenkoor "de Stormvogels"
DTSTAMP:20260425T005806Z
CATEGORIES:Openbaar    Onb
DESCRIPTION:Open dag `t Schienvat\nCategorie: Openbaar    Onb\nLink: http:/
 /piratenkoor.destormvogels.nl/index.php?option=com_jem&view=event&id=186:e
 rica\n
DTSTART;TZID=Europe/Amsterdam:20161008T160000
DTEND;TZID=Europe/Amsterdam:20161008T170000
LOCATION:'t Schienvat op Erica\,Heidebloemstraat 4\,7887 EB Erica
SUMMARY:Open dag `t Schienvat
URL:http://piratenkoor.destormvogels.nl/index.php?option=com_jem&view=event
 &id=186:erica
END:VEVENT
END:VCALENDAR