BEGIN:VCALENDAR
VERSION:2.0
PRODID:-//213.154.231.201//NONSGML kigkonsult.se iCalcreator 2.20//
CALSCALE:GREGORIAN
METHOD:PUBLISH
X-WR-TIMEZONE:Europe/Amsterdam
BEGIN:VEVENT
UID:event189@Piratenkoor "de Stormvogels"
DTSTAMP:20260424T163436Z
CATEGORIES:Openbaar    Onb
DESCRIPTION:Optreden De Badde\nCategorie: Openbaar    Onb\nLink: http://pir
 atenkoor.destormvogels.nl/index.php?option=com_jem&view=event&id=189:optre
 den-de-badde\n
DTSTART;TZID=Europe/Amsterdam:20161029T200000
DTEND;TZID=Europe/Amsterdam:20161029T230000
LOCATION:Nieuw-Weerdinge\,Nieuw-Weerdinge
SUMMARY:Optreden De Badde
URL:http://piratenkoor.destormvogels.nl/index.php?option=com_jem&view=event
 &id=189:optreden-de-badde
END:VEVENT
END:VCALENDAR