BEGIN:VCALENDAR
VERSION:2.0
PRODID:-//213.154.231.201//NONSGML kigkonsult.se iCalcreator 2.20//
CALSCALE:GREGORIAN
METHOD:PUBLISH
X-WR-TIMEZONE:Europe/Amsterdam
BEGIN:VEVENT
UID:event18@Piratenkoor "de Stormvogels"
DTSTAMP:20260424T203103Z
CATEGORIES:Openbaar    Onb
DESCRIPTION:Vlaggetjesdag Scheveningen\nCategorie: Openbaar    Onb\nLink: h
 ttp://piratenkoor.destormvogels.nl/index.php?option=com_jem&view=event&id=
 18:vlaggetjesdag-scheveningen\n
DTSTART;TZID=Europe/Amsterdam:20120609T080000
DTEND;TZID=Europe/Amsterdam:20120609T170000
LOCATION:Scheveningen\, Boulevard \,verlengde Palacestraat\,Scheveningen
SUMMARY:Vlaggetjesdag Scheveningen
URL:http://piratenkoor.destormvogels.nl/index.php?option=com_jem&view=event
 &id=18:vlaggetjesdag-scheveningen
END:VEVENT
END:VCALENDAR