BEGIN:VCALENDAR
VERSION:2.0
PRODID:-//213.154.231.201//NONSGML kigkonsult.se iCalcreator 2.20//
CALSCALE:GREGORIAN
METHOD:PUBLISH
X-WR-TIMEZONE:Europe/Amsterdam
BEGIN:VEVENT
UID:event191@Piratenkoor "de Stormvogels"
DTSTAMP:20260425T171128Z
CATEGORIES:Besloten    Onb
DESCRIPTION:Optreden De Schoel\nCategorie: Besloten    Onb\nLink: http://pi
 ratenkoor.destormvogels.nl/index.php?option=com_jem&view=event&id=191:optr
 eden-de-schoel\n
DTSTART;TZID=Europe/Amsterdam:20161115T193000
DTEND;TZID=Europe/Amsterdam:20161115T213000
LOCATION:Sleen\,Drostenstraat 1\,Sleen
SUMMARY:Optreden De Schoel
URL:http://piratenkoor.destormvogels.nl/index.php?option=com_jem&view=event
 &id=191:optreden-de-schoel
END:VEVENT
END:VCALENDAR