BEGIN:VCALENDAR
VERSION:2.0
PRODID:-//213.154.231.201//NONSGML kigkonsult.se iCalcreator 2.20//
CALSCALE:GREGORIAN
METHOD:PUBLISH
X-WR-TIMEZONE:Europe/Amsterdam
BEGIN:VEVENT
UID:event194@Piratenkoor "de Stormvogels"
DTSTAMP:20260424T212459Z
CATEGORIES:Openbaar    Onb
DESCRIPTION:Afsluiting repetitiejaar\nCategorie: Openbaar    Onb\nLink: htt
 p://piratenkoor.destormvogels.nl/index.php?option=com_jem&view=event&id=19
 4:afsluiting-repetitiejaar\n
DTSTART;TZID=Europe/Amsterdam:20161220T200000
DTEND;TZID=Europe/Amsterdam:20161220T220000
LOCATION:'t Schienvat op Erica\,Heidebloemstraat 4\,7887 EB Erica
SUMMARY:Afsluiting repetitiejaar
URL:http://piratenkoor.destormvogels.nl/index.php?option=com_jem&view=event
 &id=194:afsluiting-repetitiejaar
END:VEVENT
END:VCALENDAR